BEGIN:VCALENDAR
VERSION:2.0
PRODID:-//Victory Cheer &amp; Tumble - ECPv6.15.18//NONSGML v1.0//EN
CALSCALE:GREGORIAN
METHOD:PUBLISH
X-ORIGINAL-URL:https://victorycheerandtumble.com
X-WR-CALDESC:Events for Victory Cheer &amp; Tumble
REFRESH-INTERVAL;VALUE=DURATION:PT1H
X-Robots-Tag:noindex
X-PUBLISHED-TTL:PT1H
BEGIN:VTIMEZONE
TZID:UTC
BEGIN:STANDARD
TZOFFSETFROM:+0000
TZOFFSETTO:+0000
TZNAME:UTC
DTSTART:20250101T000000
END:STANDARD
END:VTIMEZONE
BEGIN:VTIMEZONE
TZID:UTC
BEGIN:STANDARD
TZOFFSETFROM:+0000
TZOFFSETTO:+0000
TZNAME:UTC
DTSTART:20250101T000000
END:STANDARD
END:VTIMEZONE
BEGIN:VEVENT
DTSTART;TZID=UTC:20260507T190000
DTEND;TZID=UTC:20260507T195000
DTSTAMP:20260422T103411
CREATED:20260407T180138Z
LAST-MODIFIED:20260407T180145Z
UID:10000068-1778180400-1778183400@victorycheerandtumble.com
SUMMARY:Bring Your Mom Open Gym
DESCRIPTION:Celebrate time together at our Bring Your Mom Open Gym! Athletes are invited to bring their mom (or special grown-up) to enjoy open gym time\, explore the equipment\, and make sweet memories together. A fun\, relaxed way to play\, move\, and celebrate! \n  \n 
URL:https://victorycheerandtumble.com/event/bring-your-mom-open-gym/
CATEGORIES:Upcoming Events
ATTACH;FMTTYPE=image/png:https://victorycheerandtumble.com/wp-content/uploads/2026/04/Mommy-and-Me-Flyer-5.5-x-8.5.png
END:VEVENT
BEGIN:VEVENT
DTSTART;TZID=UTC:20260508T103000
DTEND;TZID=UTC:20260508T123000
DTSTAMP:20260422T103411
CREATED:20260407T172647Z
LAST-MODIFIED:20260407T190853Z
UID:10000070-1778236200-1778243400@victorycheerandtumble.com
SUMMARY:Mother's Day Daytime Playtime
DESCRIPTION:We’re celebrating moms\, grandmas\, and all the special caregivers who make our days brighter! Kids will enjoy playtime fun and create a sweet surprise to take home for their #1 fan.
URL:https://victorycheerandtumble.com/event/mothers-day-daytime-playtime/
CATEGORIES:Daytime Playtime,Upcoming Events
ATTACH;FMTTYPE=image/png:https://victorycheerandtumble.com/wp-content/uploads/2026/04/Mommy-Me-CLASS-Fridays-@-10AM.png
END:VEVENT
BEGIN:VEVENT
DTSTART;TZID=UTC:20260516T093000
DTEND;TZID=UTC:20260516T113000
DTSTAMP:20260422T103411
CREATED:20260407T171424Z
LAST-MODIFIED:20260407T190652Z
UID:10000069-1778923800-1778931000@victorycheerandtumble.com
SUMMARY:Mini Tumbling Olympics
DESCRIPTION:Go for the gold at our Mini Tumbling Olympics! Athletes will work through tumbling events\, obstacle courses\, and challenges while earning “medals” for their effort\, spirit\, and skills. \n 
URL:https://victorycheerandtumble.com/event/mini-tumbling-olympics/
CATEGORIES:Upcoming Events
ATTACH;FMTTYPE=image/png:https://victorycheerandtumble.com/wp-content/uploads/2026/04/Mini-Tumbling-Olmypics-1.png
END:VEVENT
BEGIN:VEVENT
DTSTART;TZID=UTC:20260517T153000
DTEND;TZID=UTC:20260517T170000
DTSTAMP:20260422T103411
CREATED:20260409T170349Z
LAST-MODIFIED:20260409T174534Z
UID:10000071-1779031800-1779037200@victorycheerandtumble.com
SUMMARY:Skills Clinic: BHS/Level 3+
DESCRIPTION:BHS Clinic\nTake your tumbling to the next level! Athletes work drills and techniques to safely master back handsprings with power and confidence. \nLevel 3+ Clinic\nReady for advanced skills? This clinic focuses on strong tumbling\, jumps\, and connections to build clean\, confident Level 3 passes. \nRegister Below!\n\n\n\n                \n                        \n							"*" indicates required fields \n                        \n                        Your InformationParent's Name*\n                            \n                            \n                                                    \n                                                    First\n                                                \n                            \n                            \n                                                    \n                                                    Last\n                                                \n                            \n                        Phone*Email*\n                            \n                        Address*    \n                    \n                         \n                                        \n                                        Street Address\n                                    \n                                    \n                                    City\n                                 \n                                        \n                                        State\n                                      \n                    \n                Child's Name*\n                            \n                            \n                                                    \n                                                    First\n                                                \n                            \n                            \n                                                    \n                                                    Last\n                                                \n                            \n                        Child's Date of Birth*MM/DD/YYYYList any allergies.*Insurance Carrier*Emergency Contact Name*\n                            \n                            \n                                                    \n                                                    First\n                                                \n                            \n                            \n                                                    \n                                                    Last\n                                                \n                            \n                        Emergency Contact Relation To Child*Emergency Contact Phone*PaymentWhich Clinic Would You Like To Attend?*\n			\n					\n					BHS Clinic\n			\n			\n					\n					Level 3+ Clinic\n			Processing Fee\n					\n					\n						Price:\n						$0.00\n					\n					\n					\n				Total\n							\n						Credit Card*\n					\n						Cardholder Name\n					\n					\n						Card Details\n					\n				\n          \n            \n            \n            \n            \n            \n            \n            \n            \n            \n            \n            \n            \n            \n        \n                        \n                        \n		                \n		                \n\n 
URL:https://victorycheerandtumble.com/event/skills-clinic-bhs-level-3-3/
CATEGORIES:Upcoming Events
ATTACH;FMTTYPE=image/png:https://victorycheerandtumble.com/wp-content/uploads/2026/04/videoframe_1795.png
END:VEVENT
END:VCALENDAR